BEGIN:VCALENDAR
VERSION:2.0
PRODID:-//ChamberMaster//Event Calendar 2.0//EN
METHOD:PUBLISH
X-PUBLISHED-TTL:P3D
REFRESH-INTERVAL:P3D
CALSCALE:GREGORIAN
BEGIN:VEVENT
DTSTART:20230418T123000Z
DTEND:20230418T140000Z
X-MICROSOFT-CDO-ALLDAYEVENT:FALSE
SUMMARY:Business at Breakfast
DESCRIPTION:Join us for our Quarterly Business at Breakfasts. These events are meant to bring community/business leaders and representatives of every industry in the region together for networking and learning from our guest speaker. \n\nOur guest speaker this month is Maj. Gen. James Bonner\, Maneuver Support Center of Excellence and Fort Leonard Wood Commanding General.
X-ALT-DESC;FMTTYPE=text/html:<h5 style="margin-top:0in\;margin-right:0in\;margin-bottom:15.0pt\;margin-left:0in\;background:white\;"><span style="font-size:14px\;"><span style="font-family:arial\;"><span style="letter-spacing:.25pt\;"><span style="color:#333333\;">Join us for our Quarterly Business at Breakfasts. These events are meant to bring community/business leaders and representatives of every industry in the region together for networking and learning from our guest speaker. </span></span></span></span></h5>\n\n<h5 style="margin-top:0in\;margin-right:0in\;margin-bottom:15.0pt\;margin-left:0in\;background:white\;"><span style="font-size:14px\;"><span style="font-family:arial\;"><span style="letter-spacing:.25pt\;"><span style="color:#333333\;">Our guest speaker this month is Maj. Gen. James Bonner\, Maneuver Support Center of Excellence and Fort Leonard Wood Commanding General.</span></span></span></span></h5>\n
LOCATION:Rolla Lions Club Den 1061 S Bishop
UID:e.1638.1729
SEQUENCE:3
DTSTAMP:20260424T013439Z
URL:http://rolladev.chambermaster.com/events/details/business-at-breakfast-1729
END:VEVENT

END:VCALENDAR
