BEGIN:VCALENDAR
VERSION:2.0
PRODID:-//ChamberMaster//Event Calendar 2.0//EN
METHOD:PUBLISH
X-PUBLISHED-TTL:P3D
REFRESH-INTERVAL:P3D
CALSCALE:GREGORIAN
BEGIN:VEVENT
DTSTART:20230730T000000Z
DTEND:20230730T040000Z
X-MICROSOFT-CDO-ALLDAYEVENT:FALSE
SUMMARY:Casino Royale
DESCRIPTION:Come dressed to kill and enjoy a glamorous James Bond-themed party for our 6th annual Casino Night. \n\n\n\nAttendees will experience a fun evening of food\, drinks\, and a variety of gambling options with $10\,000 in play money provided by our bank sponsor.\n\n\n\nExperience blackjack\, roulette\, craps\, and poker. Purchase raffle tickets for our Barrell of Booze and 50/50 drawing. \n\n\n\nAttire: Dress with the theme (but not required).
X-ALT-DESC;FMTTYPE=text/html:<span style="color:#000000\;"><span style="font-size:16px\;"><span style="font-family:arial\;">Come dressed to kill and enjoy a glamorous James Bond-themed party for our 6th annual Casino Night.&nbsp\;<br />\n<br />\n<span style="background-color: rgb(255\, 255\, 255)\;">Attendees will experience a fun evening of food\, drinks\, and a variety of gambling options with $10\,000 in play money provided by our bank sponsor.<br />\n<br />\nExperience blackjack\, roulette\, craps\, and poker. Purchase raffle tickets for our Barrell of Booze and 50/50 drawing.&nbsp\;<br />\n<br />\nAttire: Dress with the theme (but not required).</span></span></span></span><br />\n<br />\n&nbsp\;
LOCATION:Signature Event Center 1701 Martin Springs Dr https://signatureeve.com/
UID:e.1638.1735
SEQUENCE:3
DTSTAMP:20260424T000555Z
URL:http://rolladev.chambermaster.com/events/details/casino-royale-1735
END:VEVENT

END:VCALENDAR
