BEGIN:VCALENDAR
VERSION:2.0
PRODID:-//ChamberMaster//Event Calendar 2.0//EN
METHOD:PUBLISH
X-PUBLISHED-TTL:P3D
REFRESH-INTERVAL:P3D
CALSCALE:GREGORIAN
BEGIN:VEVENT
DTSTART:20231220T173000Z
DTEND:20231220T190000Z
X-MICROSOFT-CDO-ALLDAYEVENT:FALSE
SUMMARY:December Luncheon
DESCRIPTION:Monthly Networking and Educational Luncheon.      \n\n\n\nLuncheon Speaker: Stevie Kearse\, Executive Director\, RACC\n\nLuncheon Topic: Updates for Next Year - 2024\n\nLuncheon Sponsor:  Havener Center and Phelps Health\n\nBusiness of the Month:  Taylor Chrysler\n\n\n\nBring business cards for networking and flyers or promotional items for the handout table.\n\n\n\nEvent Timeline: \n\n11:30 - buffet opens\, food served\n\n12:00 - program starts\n\n12:45 - round robin announcements\n\n1:00 - dismiss event\n\n\n\nRound Robin announcements should be kept to 30 seconds or less. Please refer to any handouts that you brought for the handout table. For more information on this\, please contact the Chamber staff.\n\n\n\n*Round Robin announcements are for members ONLY.*
X-ALT-DESC;FMTTYPE=text/html:<br />\nMonthly Networking and Educational Luncheon.&nbsp\;&nbsp\;&nbsp\;&nbsp\;&nbsp\;&nbsp\;<br />\n<br />\n<b>Luncheon Speaker:&nbsp\;</b>Stevie Kearse\, Executive Director\, RACC<br />\n<strong>Luncheon Topic:</strong> Updates for Next Year - 2024<br />\n<strong>Luncheon Sponsor:</strong>&nbsp\; Havener Center and Phelps Health<br />\n<strong>Business of the Month:&nbsp\;</strong>&nbsp\;Taylor Chrysler<br />\n<br />\nBring business cards for networking and flyers or promotional items for the handout table.<br />\n<br />\n<strong>Event Timeline:&nbsp\;</strong><br />\n11:30 - buffet opens\, food served<br />\n12:00 - program starts<br />\n12:45 - round robin announcements<br />\n1:00 - dismiss event<br />\n<br />\nRound Robin announcements should be kept to 30 seconds or less. Please refer to any handouts that you brought for the handout table. For more information on this\, please contact the Chamber staff.<br />\n<br />\n<strong>*Round Robin announcements are for members ONLY.*</strong><br />\n&nbsp\;
LOCATION:Havener Center 1346 North Bishop Ave
UID:e.1638.1716
SEQUENCE:3
DTSTAMP:20260420T142354Z
URL:http://rolladev.chambermaster.com/events/details/december-luncheon-1716
END:VEVENT

END:VCALENDAR
