BEGIN:VCALENDAR
VERSION:2.0
PRODID:-//ChamberMaster//Event Calendar 2.0//EN
METHOD:PUBLISH
X-PUBLISHED-TTL:P3D
REFRESH-INTERVAL:P3D
CALSCALE:GREGORIAN
BEGIN:VEVENT
DTSTART:20231103T123000Z
DTEND:20231103T133000Z
X-MICROSOFT-CDO-ALLDAYEVENT:FALSE
SUMMARY:First Friday Coffee/Athletico
DESCRIPTION:This monthly networking event is a great way to kick off the last day of the work week.  You will meet new people\, build professional relationships\, and catch up with long time business colleagues. \n\n\n\nDon't forget your business cards for networking and door prizes!
X-ALT-DESC;FMTTYPE=text/html:&#8203\;This monthly networking event is a great way to kick off the last day of the work week.&nbsp\; You will meet new people\, build professional relationships\, and catch up with long time business colleagues.&nbsp\;<br />\n<br />\nDon&#39\;t forget your business cards for networking and door prizes!
LOCATION:603 S Bishop Ave\, Suite B Rolla
UID:e.1638.1684
SEQUENCE:3
DTSTAMP:20260421T191234Z
URL:http://rolladev.chambermaster.com/events/details/first-friday-coffee-athletico-1684
END:VEVENT

END:VCALENDAR
