BEGIN:VCALENDAR
VERSION:2.0
PRODID:-//ChamberMaster//Event Calendar 2.0//EN
METHOD:PUBLISH
X-PUBLISHED-TTL:P3D
REFRESH-INTERVAL:P3D
CALSCALE:GREGORIAN
BEGIN:VEVENT
DTSTART;VALUE=DATE:20231225
DTEND;VALUE=DATE:20231230
TRANSP:TRANSPARENT
X-MICROSOFT-CDO-ALLDAYEVENT:TRUE
SUMMARY:OFFICE CLOSED - Christmas
DESCRIPTION:The Rolla Area Chamber of Commerce will be closed December 25-29 in observance of Christmas. Merry Christmas from the Chamber!!
X-ALT-DESC;FMTTYPE=text/html:The Rolla Area Chamber of Commerce will be closed December 25-29 in observance of Christmas. Merry Christmas from the Chamber!!
LOCATION:
UID:e.1638.1670
SEQUENCE:3
DTSTAMP:20260422T053926Z
URL:http://rolladev.chambermaster.com/events/details/office-closed-christmas-1670
END:VEVENT

END:VCALENDAR
