BEGIN:VCALENDAR
VERSION:2.0
PRODID:-//ChamberMaster//Event Calendar 2.0//EN
METHOD:PUBLISH
X-PUBLISHED-TTL:P3D
REFRESH-INTERVAL:P3D
CALSCALE:GREGORIAN
BEGIN:VEVENT
DTSTART;VALUE=DATE:20231123
DTEND;VALUE=DATE:20231125
TRANSP:TRANSPARENT
X-MICROSOFT-CDO-ALLDAYEVENT:TRUE
SUMMARY:OFFICE CLOSED - Thanksgiving
DESCRIPTION:The Rolla Area Chamber of Commerce will be closed November 23 & 24 in observance of Thanksgiving.
X-ALT-DESC;FMTTYPE=text/html:The Rolla Area Chamber of Commerce will be closed November 23 &amp\; 24 in observance of Thanksgiving.
LOCATION:
UID:e.1638.1669
SEQUENCE:3
DTSTAMP:20260425T224837Z
URL:http://rolladev.chambermaster.com/events/details/office-closed-thanksgiving-1669
END:VEVENT

END:VCALENDAR
