BEGIN:VCALENDAR
VERSION:2.0
PRODID:-//ChamberMaster//Event Calendar 2.0//EN
METHOD:PUBLISH
X-PUBLISHED-TTL:P3D
REFRESH-INTERVAL:P3D
CALSCALE:GREGORIAN
BEGIN:VEVENT
DTSTART:20230817T150000Z
DTEND:20230817T153000Z
X-MICROSOFT-CDO-ALLDAYEVENT:FALSE
SUMMARY:Ribbon Cutting - Ambassador Tree
DESCRIPTION:Join us as we celebrate the Ambassador volunteer work of Mike Thompson
X-ALT-DESC;FMTTYPE=text/html:Join us as we celebrate the Ambassador volunteer work of Mike Thompson
LOCATION:Rolla Street - Lions Club Drive
UID:e.1638.1785
SEQUENCE:3
DTSTAMP:20260425T173246Z
URL:http://rolladev.chambermaster.com/events/details/ribbon-cutting-ambassador-tree-1785
END:VEVENT

END:VCALENDAR
