BEGIN:VCALENDAR
VERSION:2.0
PRODID:-//ChamberMaster//Event Calendar 2.0//EN
METHOD:PUBLISH
X-PUBLISHED-TTL:P3D
REFRESH-INTERVAL:P3D
CALSCALE:GREGORIAN
BEGIN:VEVENT
DTSTART:20231114T170000Z
DTEND:20231114T170000Z
X-MICROSOFT-CDO-ALLDAYEVENT:FALSE
SUMMARY:Ribbon Cutting/Caliber Collision
DESCRIPTION:Join us as we celebrate Caliber Collision's new location.
X-ALT-DESC;FMTTYPE=text/html:Join us as we celebrate Caliber Collision&#39\;s new location.
LOCATION:701 Lanning Ln.
UID:e.1638.1799
SEQUENCE:3
DTSTAMP:20260425T014855Z
URL:http://rolladev.chambermaster.com/events/details/ribbon-cutting-caliber-collision-1799
END:VEVENT

END:VCALENDAR
