BEGIN:VCALENDAR
VERSION:2.0
PRODID:-//ChamberMaster//Event Calendar 2.0//EN
METHOD:PUBLISH
X-PUBLISHED-TTL:P3D
REFRESH-INTERVAL:P3D
CALSCALE:GREGORIAN
BEGIN:VEVENT
DTSTART:20240111T170000Z
DTEND:20240111T170000Z
X-MICROSOFT-CDO-ALLDAYEVENT:FALSE
SUMMARY:Ribbon Cutting/Mini Split Supply
DESCRIPTION:Join us as we celebrate this new business and member of the Chamber!
X-ALT-DESC;FMTTYPE=text/html:Join us as we celebrate this new business and member of the Chamber!
LOCATION:406 E Highway 72 Rolla
UID:e.1638.1803
SEQUENCE:3
DTSTAMP:20260420T164713Z
URL:http://rolladev.chambermaster.com/events/details/ribbon-cutting-mini-split-supply-1803
END:VEVENT

END:VCALENDAR
