BEGIN:VCALENDAR
VERSION:2.0
PRODID:-//ChamberMaster//Event Calendar 2.0//EN
METHOD:PUBLISH
X-PUBLISHED-TTL:P3D
REFRESH-INTERVAL:P3D
CALSCALE:GREGORIAN
BEGIN:VEVENT
DTSTART:20240316T143000Z
DTEND:20240316T153000Z
X-MICROSOFT-CDO-ALLDAYEVENT:FALSE
SUMMARY:St. Pat's Beer Run
DESCRIPTION:Right after the St. Pat's 5K\, the Rolla Chamber and Public House Brewing Company encourage you to stick around for the Annual Best Ever Beer Run. Why just run when you can drink beer and run! The Beer Run starts at 9:30 AM.\n\n\n\nParticipants must be 21 or older.
X-ALT-DESC;FMTTYPE=text/html:<span style="color: rgb(48\, 48\, 46)\; font-family: &quot\;Open Sans&quot\;\, Helvetica\, Arial\, Verdana\, sans-serif\; font-size: 16px\;">Right after the St. Pat's 5K\, the Rolla Chamber and Public House Brewing Company encourage you to stick around for the Annual Best Ever Beer Run. Why just run when you can drink beer and run! The Beer Run starts at 9:30 AM.<br>\n<br>\nParticipants must be 21 or older.</span>
LOCATION:Downtown Rolla Public House Brewing Company 6th & Rolla Streets
UID:e.1638.1849
SEQUENCE:3
DTSTAMP:20260422T021649Z
URL:http://rolladev.chambermaster.com/events/details/st-pat-s-beer-run-1849
END:VEVENT

END:VCALENDAR
