BEGIN:VCALENDAR
VERSION:2.0
PRODID:-//ChamberMaster//Event Calendar 2.0//EN
METHOD:PUBLISH
X-PUBLISHED-TTL:P3D
REFRESH-INTERVAL:P3D
CALSCALE:GREGORIAN
BEGIN:VEVENT
DTSTART:20230629T220000Z
DTEND:20230630T000000Z
X-MICROSOFT-CDO-ALLDAYEVENT:FALSE
SUMMARY:The Collective - Table Talk
DESCRIPTION:Join us for our second Quarterly Event this year! When you register for this event\, you will choose TWO topics you would like to learn more about during the table topic discussions. You will spend 30 minutes at each table. We will only have 8 people per table\, so it's a first come first serve basis.\n\n\n\nPlease try to arrive by 5:20 PM to ensure we get started on time.\n\n\n\nThere will be light appetizers provided by one of our sponsors\, Buckin' Hot Catering!\n\n\n\nEveryone is encouraged to bring business cards for networking. You must be a member of The Collective to attend.
X-ALT-DESC;FMTTYPE=text/html:Join us for our second Quarterly Event this year! When you register for this event\, you will choose TWO topics you would like to learn more about during the table topic discussions. You will spend 30 minutes at each table. We will only have 8 people per table\, so it&#39\;s a first come first serve basis.<br />\n<br />\nPlease try to arrive by 5:20 PM to ensure we get started on time.<br />\n<br />\nThere will be light appetizers provided by one of our sponsors\, Buckin&#39\; Hot Catering!<br />\n<br />\nEveryone is encouraged to bring business cards for networking. <strong>You must be a member of The Collective to attend.</strong><br />\n&nbsp\;
LOCATION:Oak Meadow Country Club 10700 County Road 3110
UID:e.1638.1722
SEQUENCE:3
DTSTAMP:20260423T191515Z
URL:http://rolladev.chambermaster.com/events/details/the-collective-table-talk-1722
END:VEVENT

END:VCALENDAR
