BEGIN:VCALENDAR
VERSION:2.0
PRODID:-//ChamberMaster//Event Calendar 2.0//EN
METHOD:PUBLISH
X-PUBLISHED-TTL:P3D
REFRESH-INTERVAL:P3D
CALSCALE:GREGORIAN
BEGIN:VEVENT
DTSTART:20230414T230000Z
DTEND:20230415T030000Z
X-MICROSOFT-CDO-ALLDAYEVENT:FALSE
SUMMARY:Trivia & Tastings
DESCRIPTION:Join us for our first ever Chamber hosted Trivia Night! This event has a special flare....tastings of local beer\, wine\, and whiskey. Teams of 8 will battle it out to see who is the master of Trivia.\n\nTable registrations fee includes a tasting glass for each team member and complimentary tastings.
X-ALT-DESC;FMTTYPE=text/html:Join us for our first ever Chamber hosted Trivia Night! This event has a special flare....tastings of local beer\, wine\, and whiskey. Teams of 8 will battle it out to see who is the master of Trivia.<br />\n<span style="background-image:initial\;background-position:initial\;background-size:initial\;background-repeat:initial\;background-attachment:initial\;background-origin:initial\;background-clip:initial\;"><span style="font-family:arial\,sans-serif\;"><span style="font-size:10pt\;">Table registrations fee includes a tasting glass for each team member and complimentary tastings.</span></span></span><br />\n&nbsp\;
LOCATION:Lions Club Den 1061 S. Bishop Ave
UID:e.1638.1724
SEQUENCE:3
DTSTAMP:20260425T190147Z
URL:http://rolladev.chambermaster.com/events/details/trivia-tastings-1724
END:VEVENT

END:VCALENDAR
